BEGIN:VCALENDAR
VERSION:2.0
PRODID:-//Word of Life International Ministries - ECPv6.15.19//NONSGML v1.0//EN
CALSCALE:GREGORIAN
METHOD:PUBLISH
X-WR-CALNAME:Word of Life International Ministries
X-ORIGINAL-URL:https://wolim.org
X-WR-CALDESC:Events for Word of Life International Ministries
REFRESH-INTERVAL;VALUE=DURATION:PT1H
X-Robots-Tag:noindex
X-PUBLISHED-TTL:PT1H
BEGIN:VTIMEZONE
TZID:Africa/Harare
BEGIN:STANDARD
TZOFFSETFROM:+0200
TZOFFSETTO:+0200
TZNAME:CAT
DTSTART:20170101T000000
END:STANDARD
END:VTIMEZONE
BEGIN:VEVENT
DTSTART;TZID=Africa/Harare:20210422T190000
DTEND;TZID=Africa/Harare:20210425T210000
DTSTAMP:20260415T111829
CREATED:20210423T062724Z
LAST-MODIFIED:20210423T062724Z
UID:1345-1619118000-1619384400@wolim.org
SUMMARY:Faith Convention 2021
DESCRIPTION:1 John 5:4;\nFor whatever is born of God overcomes the world. And this is the victory that has overcome the world— our faith.\n\n\nWhatever is born of God must overcome the world\, #wolim we have overcome.\nSave the date & join us 22-25 April 2021 for our annual Faith Convention.\n#wolim\n#wolimIBelong
URL:https://wolim.org/event/faith-convention-2021/
CATEGORIES:Conference
ATTACH;FMTTYPE=image/jpeg:https://wolim.org/wp-content/uploads/2021/04/Faith-convention-website-dimensions.jpg
END:VEVENT
BEGIN:VEVENT
DTSTART;VALUE=DATE:20190328
DTEND;VALUE=DATE:20190401
DTSTAMP:20260415T111829
CREATED:20190102T135408Z
LAST-MODIFIED:20190102T151528Z
UID:256-1553731200-1554076799@wolim.org
SUMMARY:Faith Convention 2019
DESCRIPTION:You are invited to attend this Conference.
URL:https://wolim.org/event/faith-convention-2019/
LOCATION:BYOCC\, Bulawayo\, Zimbabwe
CATEGORIES:Conference
ATTACH;FMTTYPE=image/jpeg:https://wolim.org/wp-content/uploads/2018/11/WCC18-.jpg
ORGANIZER;CN="":MAILTO:info@wolim.org
END:VEVENT
BEGIN:VEVENT
DTSTART;TZID=Africa/Harare:20181214T080000
DTEND;TZID=Africa/Harare:20181216T170000
DTSTAMP:20260415T111829
CREATED:20181112T110356Z
LAST-MODIFIED:20181112T112704Z
UID:113-1544774400-1544979600@wolim.org
SUMMARY:World Changer Conference 2018
DESCRIPTION:
URL:https://wolim.org/event/world-changer-conference-2018/
LOCATION:BYOCC\, Bulawayo\, Zimbabwe
CATEGORIES:Conference
END:VEVENT
END:VCALENDAR